BEGIN:VCALENDAR
VERSION:2.0
PRODID:-//SONGLAAP - ECPv6.11.2.1//NONSGML v1.0//EN
CALSCALE:GREGORIAN
METHOD:PUBLISH
X-WR-CALNAME:SONGLAAP
X-ORIGINAL-URL:https://songlaap.com
X-WR-CALDESC:Events for SONGLAAP
REFRESH-INTERVAL;VALUE=DURATION:PT1H
X-Robots-Tag:noindex
X-PUBLISHED-TTL:PT1H
BEGIN:VTIMEZONE
TZID:America/New_York
BEGIN:DAYLIGHT
TZOFFSETFROM:-0500
TZOFFSETTO:-0400
TZNAME:EDT
DTSTART:20230312T070000
END:DAYLIGHT
BEGIN:STANDARD
TZOFFSETFROM:-0400
TZOFFSETTO:-0500
TZNAME:EST
DTSTART:20231105T060000
END:STANDARD
END:VTIMEZONE
BEGIN:VEVENT
DTSTART;TZID=America/New_York:20230603T163000
DTEND;TZID=America/New_York:20230603T193000
DTSTAMP:20260422T224428
CREATED:20240417T122155Z
LAST-MODIFIED:20240723T230548Z
UID:1177-1685809800-1685820600@songlaap.com
SUMMARY:KHELA – JUN 3 – 2023
DESCRIPTION:
URL:https://songlaap.com/event/khela-event-details/
LOCATION:Solon Center For the Arts\, 6315 SOM Ctr Rd\, Solon\, OH\, 44139\, United States
CATEGORIES:Past_Events
END:VEVENT
END:VCALENDAR