BEGIN:VCALENDAR
VERSION:2.0
PRODID:-//SONGLAAP - ECPv6.11.2.1//NONSGML v1.0//EN
CALSCALE:GREGORIAN
METHOD:PUBLISH
X-WR-CALNAME:SONGLAAP
X-ORIGINAL-URL:https://songlaap.com
X-WR-CALDESC:Events for SONGLAAP
REFRESH-INTERVAL;VALUE=DURATION:PT1H
X-Robots-Tag:noindex
X-PUBLISHED-TTL:PT1H
BEGIN:VTIMEZONE
TZID:America/New_York
BEGIN:DAYLIGHT
TZOFFSETFROM:-0500
TZOFFSETTO:-0400
TZNAME:EDT
DTSTART:20230312T070000
END:DAYLIGHT
BEGIN:STANDARD
TZOFFSETFROM:-0400
TZOFFSETTO:-0500
TZNAME:EST
DTSTART:20231105T060000
END:STANDARD
BEGIN:DAYLIGHT
TZOFFSETFROM:-0500
TZOFFSETTO:-0400
TZNAME:EDT
DTSTART:20240310T070000
END:DAYLIGHT
BEGIN:STANDARD
TZOFFSETFROM:-0400
TZOFFSETTO:-0500
TZNAME:EST
DTSTART:20241103T060000
END:STANDARD
END:VTIMEZONE
BEGIN:VEVENT
DTSTART;TZID=America/New_York:20240705T100000
DTEND;TZID=America/New_York:20240705T123000
DTSTAMP:20260422T225540
CREATED:20240418T002802Z
LAST-MODIFIED:20240723T230527Z
UID:1378-1720173600-1720182600@songlaap.com
SUMMARY:KHELA – NABC – 2024
DESCRIPTION:
URL:https://songlaap.com/event/khela-nabc-event-details/
LOCATION:Schaumburg Convention Center\, 1551 Thoreau Dr N\, Schaumburg\, IL\, 60173\, United States
CATEGORIES:Past_Events
END:VEVENT
BEGIN:VEVENT
DTSTART;TZID=America/New_York:20240609T173000
DTEND;TZID=America/New_York:20240609T193000
DTSTAMP:20260422T225540
CREATED:20240414T053650Z
LAST-MODIFIED:20240723T230537Z
UID:382-1717954200-1717961400@songlaap.com
SUMMARY:KAALSHUDDHI – JUN 9 – 2024
DESCRIPTION:
URL:https://songlaap.com/event/kaalshuddhi-event-details/
LOCATION:Solon Center For the Arts\, 6315 SOM Ctr Rd\, Solon\, OH\, 44139\, United States
CATEGORIES:Past_Events
END:VEVENT
BEGIN:VEVENT
DTSTART;TZID=America/New_York:20230603T163000
DTEND;TZID=America/New_York:20230603T193000
DTSTAMP:20260422T225540
CREATED:20240417T122155Z
LAST-MODIFIED:20240723T230548Z
UID:1177-1685809800-1685820600@songlaap.com
SUMMARY:KHELA – JUN 3 – 2023
DESCRIPTION:
URL:https://songlaap.com/event/khela-event-details/
LOCATION:Solon Center For the Arts\, 6315 SOM Ctr Rd\, Solon\, OH\, 44139\, United States
CATEGORIES:Past_Events
END:VEVENT
END:VCALENDAR